BEGIN:VCALENDAR
VERSION:2.0
PRODID:-//JCEF - ECPv6.15.20//NONSGML v1.0//EN
CALSCALE:GREGORIAN
METHOD:PUBLISH
X-WR-CALNAME:JCEF
X-ORIGINAL-URL:https://www.jcef.asso.fr
X-WR-CALDESC:Évènements pour JCEF
REFRESH-INTERVAL;VALUE=DURATION:PT1H
X-Robots-Tag:noindex
X-PUBLISHED-TTL:PT1H
BEGIN:VTIMEZONE
TZID:Europe/Paris
BEGIN:DAYLIGHT
TZOFFSETFROM:+0100
TZOFFSETTO:+0200
TZNAME:CEST
DTSTART:20200329T010000
END:DAYLIGHT
BEGIN:STANDARD
TZOFFSETFROM:+0200
TZOFFSETTO:+0100
TZNAME:CET
DTSTART:20201025T010000
END:STANDARD
BEGIN:DAYLIGHT
TZOFFSETFROM:+0100
TZOFFSETTO:+0200
TZNAME:CEST
DTSTART:20210328T010000
END:DAYLIGHT
BEGIN:STANDARD
TZOFFSETFROM:+0200
TZOFFSETTO:+0100
TZNAME:CET
DTSTART:20211031T010000
END:STANDARD
BEGIN:DAYLIGHT
TZOFFSETFROM:+0100
TZOFFSETTO:+0200
TZNAME:CEST
DTSTART:20220327T010000
END:DAYLIGHT
BEGIN:STANDARD
TZOFFSETFROM:+0200
TZOFFSETTO:+0100
TZNAME:CET
DTSTART:20221030T010000
END:STANDARD
END:VTIMEZONE
BEGIN:VEVENT
DTSTART;TZID=Europe/Paris:20210622T183000
DTEND;TZID=Europe/Paris:20210622T200000
DTSTAMP:20260423T034420
CREATED:20210607T091338Z
LAST-MODIFIED:20210607T091338Z
UID:12062-1624386600-1624392000@www.jcef.asso.fr
SUMMARY:[MASTERCLASS] - 17 objectifs pour sauver le monde : s’engager et participer à la réussite des O.D.D ?
DESCRIPTION:[MASTERCLASS] « 17 objectifs pour sauver le monde : s’engager et participer à la réussite des O.D.D ? » \nLa Jeune Chambre Économique Française organise une masterclass consacrée aux 17 objectifs du développement durable le mardi 22 juin prochain sur nos réseaux sociaux ! \n    Qui ? Laurence Capossele\, Dirigeante et Co-fondatrice de Cetup et membre du Conseil d’Administration de Global Compact et Martin Bortzmeyer\, chef de la délégation au développement durable du Ministère de la Transition écologique et solidaire. \n    Quoi ? Une masterclass avec 2 spécialistes des Objectifs du Développement Durable animée par Julien Callon\, bénévole à la Jeune Chambre Économique Française. \n    Quand ? le mardi 22 juin à partir de 18h30. \n    Où ? Sur notre page Facebook et notre compte Youtube ! \nCet événement est ouvert à tous\, vous pourrez nous suivre directement sur Facebook et Youtube le mardi 22 juin à partir de 18h30 ! \nEn savoir plus sur la JCEF ? www.jcef.asso.fr
URL:https://www.jcef.asso.fr/event/masterclass-17-objectifs-pour-sauver-le-monde-sengager-et-participer-a-la-reussite-des-o-d-d/
LOCATION:En ligne
CATEGORIES:Evénéments nationaux
ATTACH;FMTTYPE=image/png:https://www.jcef.asso.fr/wp-content/uploads/2021/06/Copie-de-masterclass-22-juin1.png
END:VEVENT
END:VCALENDAR