BEGIN:VCALENDAR
VERSION:2.0
PRODID:-//JCEF - ECPv6.15.20//NONSGML v1.0//EN
CALSCALE:GREGORIAN
METHOD:PUBLISH
X-WR-CALNAME:JCEF
X-ORIGINAL-URL:https://www.jcef.asso.fr
X-WR-CALDESC:Évènements pour JCEF
REFRESH-INTERVAL;VALUE=DURATION:PT1H
X-Robots-Tag:noindex
X-PUBLISHED-TTL:PT1H
BEGIN:VTIMEZONE
TZID:Europe/Paris
BEGIN:DAYLIGHT
TZOFFSETFROM:+0100
TZOFFSETTO:+0200
TZNAME:CEST
DTSTART:20200329T010000
END:DAYLIGHT
BEGIN:STANDARD
TZOFFSETFROM:+0200
TZOFFSETTO:+0100
TZNAME:CET
DTSTART:20201025T010000
END:STANDARD
BEGIN:DAYLIGHT
TZOFFSETFROM:+0100
TZOFFSETTO:+0200
TZNAME:CEST
DTSTART:20210328T010000
END:DAYLIGHT
BEGIN:STANDARD
TZOFFSETFROM:+0200
TZOFFSETTO:+0100
TZNAME:CET
DTSTART:20211031T010000
END:STANDARD
BEGIN:DAYLIGHT
TZOFFSETFROM:+0100
TZOFFSETTO:+0200
TZNAME:CEST
DTSTART:20220327T010000
END:DAYLIGHT
BEGIN:STANDARD
TZOFFSETFROM:+0200
TZOFFSETTO:+0100
TZNAME:CET
DTSTART:20221030T010000
END:STANDARD
END:VTIMEZONE
BEGIN:VEVENT
DTSTART;TZID=Europe/Paris:20211029T140000
DTEND;TZID=Europe/Paris:20211029T170000
DTSTAMP:20260422T105815
CREATED:20210908T132059Z
LAST-MODIFIED:20210908T132059Z
UID:12210-1635516000-1635526800@www.jcef.asso.fr
SUMMARY:Une jeunesse engagée au service d'un monde vertueux #Angers2150
DESCRIPTION:Les sujets du Développement Durable\, de la transition écologique\, de la jeunesse et de l’engagement vous parlent ? Nous vous proposons de prendre part à l’aventure JCEF le temps d’une après-midi\, le 29 octobre prochain à Angers\, en participant aux conférences organisées dans le cadre de notre congrès annuel !\n \nPour la première fois\, la Jeune Chambre Économique Française ouvrira une partie de son congrès annuel à tous\, le vendredi 29 octobre 2021 ! \nLe vendredi 29 octobre 2021 à partir de 14h\, les bénévoles de la Jeune Chambre Économique Française vous convient à participer aux conférences organisées par l’association au Centre des congrès d’Angers. Au programme : des tables rondes sur les thématiques du développement durable\, de la transition écologique et sociale avec des invités du monde institutionnel\, économique et associatif français (programme à venir). \nVous avez entre 18 et 30 ans ? \nVous pouvez également vous inscrire pour participer à un networking JCEF et rencontrer les bénévoles de la région Pays de la Loire pour en savoir plus sur les actions menées en local et pourquoi pas adhérer à une jeune chambre économique locale ! \nVous avez également la possibilité de participer à la soirée « À l’abordage des O.D.D ! » avec l’ensemble des membres de la Jeune Chambre Économique Française. \nUn pass sanitaire vous sera demandé pour pouvoir accéder l’événement. 
URL:https://www.jcef.asso.fr/event/une-jeunesse-engagee-au-service-dun-monde-vertueux-angers2150/
LOCATION:Angers
CATEGORIES:Evénéments nationaux
ATTACH;FMTTYPE=image/png:https://www.jcef.asso.fr/wp-content/uploads/2021/09/Publi-FB-Angers.png
END:VEVENT
END:VCALENDAR